BEGIN:VCALENDAR
VERSION:2.0
PRODID:gruene-elmshorn.de
METHOD:PUBLISH
BEGIN:VTIMEZONE
TZID:Europe/Berlin
X-LIC-LOCATION:Europe/Berlin
BEGIN:DAYLIGHT
TZOFFSETFROM:+0100
TZOFFSETTO:+0200
TZNAME:CEST
DTSTART:19700329T020000
RRULE:FREQ=YEARLY;INTERVAL=1;BYDAY=-1SU;BYMONTH=3
END:DAYLIGHT
BEGIN:STANDARD
TZOFFSETFROM:+0200
TZOFFSETTO:+0100
TZNAME:CET
DTSTART:19701025T030000
RRULE:FREQ=YEARLY;INTERVAL=1;BYDAY=-1SU;BYMONTH=10
END:STANDARD
END:VTIMEZONE
BEGIN:VEVENT
UID:ed7561acb576a6a3c4c89c1a5c958258@gruene-elmshorn.de
URL;VALUE=URI:https://gruene-elmshorn.de/termine/mitgliederversammlung-3/
LOCATION:Stadtteiltreffpunkt Klostersande, Mittelweg 49, Elmshorn
SUMMARY:Mitgliederversammlung
DESCRIPTION;ALTREP="data:text/html,%0A%3Cp%3Ewir%20laden%20euch%20herzlic
 h%20ein%20zu%20dieser%20Mitgliederversammlung%2C%20in%20deren%20Mittelpun
 kt%3Cbr%3Enoch%20einmal%20die%20notwendige%20Nachwahl%20von%20Vorstandmit
 gliedern%20steht.%20Auf%20eure%3Cbr%3Ezahlreiche%20Teilnahme%20freuen%20w
 ir%20uns%20sehr.%20Sie%20ist%20zudem%20erforderlich%2C%20um%3Cbr%3Ebeschl
 ussf%C3%A4hig%20zu%20sein.%20Wir%20bringen%20ein%20paar%20Kleinigkeiten%2
 0zum%20Snacken%20mit%2C%3Cbr%3Eaber%20ihr%20d%C3%BCrft%20auch%20gern%20wa
 s%20mitbringen.%20Der%20Saal%20ist%20gemietet%2C%20wir%20k%C3%B6nnen%20do
 rt%3Cbr%3Eessen%20und%20trinken%2C%20was%20wir%20wollen.%3C%2Fp%3E%0A%0A%
 0A%0A%3Cp%3E%3C%2Fp%3E%0A":wir laden euch herzlich ein zu dieser Mitglied
 erversammlung\, in deren Mittelpunktnoch einmal die notwendige Nachwahl v
 on Vorstandmitgliedern steht. Auf eurezahlreiche Teilnahme freuen wir uns
  sehr. Sie ist zudem erforderlich\, umbeschlussfähig zu sein. Wir bringe
 n ein paar Kleinigkeiten zum Snacken mit\,aber ihr dürft auch gern was m
 itbringen. Der Saal ist gemietet\, wir können dortessen und trinken\, wa
 s wir wollen.
CLASS:PUBLIC
DTSTART;TZID=Europe/Berlin:20241129T180000
DTEND;TZID=Europe/Berlin:20241129T190000
DTSTAMP:20260422T104818
END:VEVENT
END:VCALENDAR